BEGIN:VCALENDAR
VERSION:2.0
PRODID:-// - ECPv5.12.3//NONSGML v1.0//EN
CALSCALE:GREGORIAN
METHOD:PUBLISH
X-ORIGINAL-URL:https://klubhaus-crossen.de
X-WR-CALDESC:Veranstaltungen für 
BEGIN:VTIMEZONE
TZID:Europe/Berlin
BEGIN:DAYLIGHT
TZOFFSETFROM:+0100
TZOFFSETTO:+0200
TZNAME:CEST
DTSTART:20190331T010000
END:DAYLIGHT
BEGIN:STANDARD
TZOFFSETFROM:+0200
TZOFFSETTO:+0100
TZNAME:CET
DTSTART:20191027T010000
END:STANDARD
END:VTIMEZONE
BEGIN:VEVENT
DTSTART;TZID=Europe/Berlin:20191022T190000
DTEND;TZID=Europe/Berlin:20191022T210000
DTSTAMP:20260424T174002
CREATED:20190705T133356Z
LAST-MODIFIED:20190913T140448Z
UID:561-1571770800-1571778000@klubhaus-crossen.de
SUMMARY:Von der Maramures bis ins Banat -quer durchs wilde Rumänien mit dem Dachzelt
DESCRIPTION:Kulturdienstag\nKULTURDIENSTAG „Von der Maramures bis ins Banat – quer durchs wilde Rumänien mit dem Dachzelt“. Ein Reisebericht erlebt und präsentiert von Jana Wunderlich mit Partner.\nZur Begrüßung erhält jeder Gast eine Kostprobe eines landestypischen hochprozentigen Getränks. \n  
URL:https://klubhaus-crossen.de/event/von-der-maramaes-bis-ins-banat-quer-durchs-wilde-rumaenien-mit-dem-dachzelt/
LOCATION:Klubhaus Crossen
CATEGORIES:DIA/ Film Vortrag
ORGANIZER;CN="Klubhaus":MAILTO:info@klubhaus-crossen.de
END:VEVENT
END:VCALENDAR