BEGIN:VCALENDAR
VERSION:2.0
PRODID:-// - ECPv5.12.3//NONSGML v1.0//EN
CALSCALE:GREGORIAN
METHOD:PUBLISH
X-ORIGINAL-URL:https://klubhaus-crossen.de
X-WR-CALDESC:Veranstaltungen für 
BEGIN:VTIMEZONE
TZID:Europe/Berlin
BEGIN:DAYLIGHT
TZOFFSETFROM:+0100
TZOFFSETTO:+0200
TZNAME:CEST
DTSTART:20260329T010000
END:DAYLIGHT
BEGIN:STANDARD
TZOFFSETFROM:+0200
TZOFFSETTO:+0100
TZNAME:CET
DTSTART:20261025T010000
END:STANDARD
END:VTIMEZONE
BEGIN:VEVENT
DTSTART;TZID=Europe/Berlin:20260422T170000
DTEND;TZID=Europe/Berlin:20260422T180000
DTSTAMP:20260420T151904
CREATED:20260420T093641Z
LAST-MODIFIED:20260420T093758Z
UID:2645-1776877200-1776880800@klubhaus-crossen.de
SUMMARY:PUPPEN THEATER "Der Froschkönig"
DESCRIPTION:Theaterspaß für die ganze Familie
URL:https://klubhaus-crossen.de/event/puppen-theater-der-froschkoenig/
LOCATION:Klubhaus  Raum Nickelsdorf
CATEGORIES:Kindertheater,Kinderveranstaltung,Puppentheater Kinder,Theater/ Kabarett
ATTACH;FMTTYPE=image/jpeg:https://klubhaus-crossen.de/wp-content/uploads/2026/04/Froschkoenig-Puppentheater.jpg
END:VEVENT
END:VCALENDAR