BEGIN:VCALENDAR
VERSION:2.0
PRODID:-// - ECPv5.12.3//NONSGML v1.0//EN
CALSCALE:GREGORIAN
METHOD:PUBLISH
X-ORIGINAL-URL:https://klubhaus-crossen.de
X-WR-CALDESC:Veranstaltungen für 
BEGIN:VTIMEZONE
TZID:Europe/Berlin
BEGIN:DAYLIGHT
TZOFFSETFROM:+0100
TZOFFSETTO:+0200
TZNAME:CEST
DTSTART:20260329T010000
END:DAYLIGHT
BEGIN:STANDARD
TZOFFSETFROM:+0200
TZOFFSETTO:+0100
TZNAME:CET
DTSTART:20261025T010000
END:STANDARD
END:VTIMEZONE
BEGIN:VEVENT
DTSTART;TZID=Europe/Berlin:20260526T190000
DTEND;TZID=Europe/Berlin:20260526T210000
DTSTAMP:20260423T154209
CREATED:20260423T100608Z
LAST-MODIFIED:20260423T100739Z
UID:2658-1779822000-1779829200@klubhaus-crossen.de
SUMMARY:NEUSEELAND - weiter weg geht kaum! Reisebericht mit & von Jürgen Koch
DESCRIPTION:KULTURDIENSTAG auf gehts nach Neuseeland\, lassen sie sich entführen ans Ende der Welt! Ein Multimedia-Vortrag von und mit Jürgen Koch! \nTauchen Sie ein in die faszinierende Vielfalt Neuseelands!\nDieser Vortrag nimmt Sie mit auf eine eindrucksvolle Reise über die Süd- und Nordinsel – von den weltberühmten Fjorden des Milford Sound bis zu den einzigartigen geothermischen Landschaften mit Geysiren. \nErleben Sie spektakuläre Küsten entlang der Tasman-See\, idyllische Weidelandschaften mit traditioneller Schafzucht sowie bekannte Weinanbaugebiete. Auf der Nordinsel erwarten Sie Naturwunder wie der Hot Water Beach\, tropische Regenwälder mit seltenen Kauri-Bäumen und außergewöhnliche\, teils skurrile Sehenswürdigkeiten. \nHistorische Goldgräberstädte und beeindruckende Naturkulissen machen diesen Vortrag zu einem abwechslungsreichen Erlebnis für alle Reiseliebhaber. \nLassen Sie sich inspirieren und entdecken Sie Neuseeland aus nächster Nähe!
URL:https://klubhaus-crossen.de/event/neuseeland-weiter-weg-geht-kaum-reisebericht-mit-von-juergen-koch/
LOCATION:Klubhaus Crossen Raum Ahlendorf
CATEGORIES:DIA/ Film Vortrag,Reiseberichte,Vorträge
ATTACH;FMTTYPE=image/jpeg:https://klubhaus-crossen.de/wp-content/uploads/2026/04/Aushang-Neuseeland_26.05.26_digital.jpg
END:VEVENT
END:VCALENDAR