BEGIN:VCALENDAR
VERSION:2.0
PRODID:-// - ECPv5.12.3//NONSGML v1.0//EN
CALSCALE:GREGORIAN
METHOD:PUBLISH
X-ORIGINAL-URL:https://klubhaus-crossen.de
X-WR-CALDESC:Veranstaltungen für 
BEGIN:VTIMEZONE
TZID:Europe/Berlin
BEGIN:DAYLIGHT
TZOFFSETFROM:+0100
TZOFFSETTO:+0200
TZNAME:CEST
DTSTART:20230326T010000
END:DAYLIGHT
BEGIN:STANDARD
TZOFFSETFROM:+0200
TZOFFSETTO:+0100
TZNAME:CET
DTSTART:20231029T010000
END:STANDARD
END:VTIMEZONE
BEGIN:VEVENT
DTSTART;TZID=Europe/Berlin:20230123T160000
DTEND;TZID=Europe/Berlin:20230123T180000
DTSTAMP:20260421T145645
CREATED:20221219T155617Z
LAST-MODIFIED:20221219T160005Z
UID:1670-1674489600-1674496800@klubhaus-crossen.de
SUMMARY:Malkurs mit Ute\, für jeden der Pinsel\, Stift & Farbe liebt.
DESCRIPTION:Malkurs mit Ute\, für jeden der Pinsel\, Stift & Farbe liebt.\nFür geübte & ungeübte! Für große & kleine! Anleitung und Unterstützung ist garantiert.
URL:https://klubhaus-crossen.de/event/malkurs-mit-ute-fuer-jeden-der-pinsel-stift-farbe-liebt/
LOCATION:Klubhaus Crossen
CATEGORIES:Freundeskreis,Kreativangebot,Kurse,Malen-Zeichnen
ATTACH;FMTTYPE=image/jpeg:https://klubhaus-crossen.de/wp-content/uploads/2022/12/Malen_Aushang_23.1.-19.6.23_dig.jpg
END:VEVENT
END:VCALENDAR