BEGIN:VCALENDAR
VERSION:2.0
PRODID:-// - ECPv5.12.3//NONSGML v1.0//EN
CALSCALE:GREGORIAN
METHOD:PUBLISH
X-ORIGINAL-URL:https://klubhaus-crossen.de
X-WR-CALDESC:Veranstaltungen für 
BEGIN:VTIMEZONE
TZID:Europe/Berlin
BEGIN:DAYLIGHT
TZOFFSETFROM:+0100
TZOFFSETTO:+0200
TZNAME:CEST
DTSTART:20190331T010000
END:DAYLIGHT
BEGIN:STANDARD
TZOFFSETFROM:+0200
TZOFFSETTO:+0100
TZNAME:CET
DTSTART:20191027T010000
END:STANDARD
END:VTIMEZONE
BEGIN:VEVENT
DTSTART;TZID=Europe/Berlin:20190812T160000
DTEND;TZID=Europe/Berlin:20190812T180000
DTSTAMP:20260420T235333
CREATED:20190701T153836Z
LAST-MODIFIED:20190701T153836Z
UID:509-1565625600-1565632800@klubhaus-crossen.de
SUMMARY:Malkurs für geübte und ungeübte\, für große und kleine
DESCRIPTION:Malkurs mit Ute Hädrich\, für geübte und ungeübte und diese\, welche gern in der Gemeinschaft Zeichnen und Malen möchten. Wir freuen uns auf Ihre Anmeldung!
URL:https://klubhaus-crossen.de/event/malkurs-fuer-geuebte-und-ungeuebte-fuer-grosse-und-kleine/
LOCATION:Klubhaus Crossen
ORGANIZER;CN="Seniorenb%C3%BCro":MAILTO:info@klubhaus-crossen.de
END:VEVENT
END:VCALENDAR