BEGIN:VCALENDAR
VERSION:2.0
PRODID:-// - ECPv5.12.3//NONSGML v1.0//EN
CALSCALE:GREGORIAN
METHOD:PUBLISH
X-ORIGINAL-URL:https://klubhaus-crossen.de
X-WR-CALDESC:Veranstaltungen für 
BEGIN:VTIMEZONE
TZID:Europe/Berlin
BEGIN:DAYLIGHT
TZOFFSETFROM:+0100
TZOFFSETTO:+0200
TZNAME:CEST
DTSTART:20200329T010000
END:DAYLIGHT
BEGIN:STANDARD
TZOFFSETFROM:+0200
TZOFFSETTO:+0100
TZNAME:CET
DTSTART:20201025T010000
END:STANDARD
END:VTIMEZONE
BEGIN:VEVENT
DTSTART;TZID=Europe/Berlin:20201021T100000
DTEND;TZID=Europe/Berlin:20201021T170000
DTSTAMP:20260421T220219
CREATED:20200930T153056Z
LAST-MODIFIED:20200930T154859Z
UID:1082-1603274400-1603299600@klubhaus-crossen.de
SUMMARY:Herbstwanderung auf dem Panoramaweg rund um Droyßig
DESCRIPTION:Start: Schloßpark Droyßig Kavaliershaus\n\n\nÜber Schulstraße\, Weißenborner Weg\, Gartenanlage Waldfrieden bis Wasserhochbehälter\, dort kleine Rast mit Aussicht bis Leipzig (mit Überraschung).\n\nAbwärts nach Hassel\, Besichtigung der romanischen Kirche Hassel.Über Brückenweg an schottischen Hochlandrindern vorbei auf Panoramaweg und alter Agrarflugplatz Droyßig.\nEinkehr „Villa Hierschel“ zum Mittagessen um 13.00 Uhr\nDanach Möglichkeit der Besichtigung von Dauerausstellung des Heimatverein Droyßig e.V. im Museum am Schloßpark mit dem Thema „Schulort Droyßig – in langer Tradition“.\nKaffeetrinken im Biergarten „Schloßrestaurant“ individuell möglich.\n\n\nStrecke ca. 5 km\, Dauer mit Besichtigung und Rast ca. 2\,5 – 3 h\n\nAnmeldung unter Telefon Nr. 036693 248727
URL:https://klubhaus-crossen.de/event/herbstwanderung-auf-dem-panoramaweg-rund-um-droyssig/
LOCATION:schloßpark droyßig kavaliershaus
CATEGORIES:Gesundheit,Sport und Bewegung
ATTACH;FMTTYPE=image/jpeg:https://klubhaus-crossen.de/wp-content/uploads/2020/09/Aushang_Wanderung_Herbst_Droyßig-digi.jpg
ORGANIZER;CN="Seniorenb%C3%BCro":MAILTO:info@klubhaus-crossen.de
END:VEVENT
END:VCALENDAR