BEGIN:VCALENDAR
VERSION:2.0
PRODID:-// - ECPv5.12.3//NONSGML v1.0//EN
CALSCALE:GREGORIAN
METHOD:PUBLISH
X-ORIGINAL-URL:https://klubhaus-crossen.de
X-WR-CALDESC:Veranstaltungen für 
BEGIN:VTIMEZONE
TZID:Europe/Berlin
BEGIN:DAYLIGHT
TZOFFSETFROM:+0100
TZOFFSETTO:+0200
TZNAME:CEST
DTSTART:20220327T010000
END:DAYLIGHT
BEGIN:STANDARD
TZOFFSETFROM:+0200
TZOFFSETTO:+0100
TZNAME:CET
DTSTART:20221030T010000
END:STANDARD
END:VTIMEZONE
BEGIN:VEVENT
DTSTART;TZID=Europe/Berlin:20220629T150000
DTEND;TZID=Europe/Berlin:20220629T170000
DTSTAMP:20260421T194156
CREATED:20220519T143455Z
LAST-MODIFIED:20220519T143455Z
UID:1504-1656514800-1656522000@klubhaus-crossen.de
SUMMARY:Haus-Notruf-Knopf - Infonachmittag
DESCRIPTION:Ein Zuhause schenkt Vertrautheit und Geborgenheit. Gerade für ältere\, kranke oder behinderte Menschen ist es deshalb besonders wichtig! \nWer aber hilft im Notfall?  \n\nDer DRK-Hausnotruf schenkt seit Jahrzehnten Sicherheit für ein selbstbestimmtes Leben in den eigenen vier Wänden. \nBeim Auslösen des Notrufes wird automatisch eine Sprechverbindung zur DRK-Zentrale hergestellt. \nDiese ist rund um die Uhr besetzt und koordiniert die Hilfe für den einzelnen Hausnotruf-Teilnehmer.
URL:https://klubhaus-crossen.de/event/haus-notruf-knopf-infonachmittag/
LOCATION:Klubhaus Crossen
CATEGORIES:Gesundheit,Vorträge
ATTACH;FMTTYPE=image/jpeg:https://klubhaus-crossen.de/wp-content/uploads/2022/05/Aushang-Notknopf_29.06.22-Digital.jpg
ORGANIZER;CN="Seniorenb%C3%BCro":MAILTO:info@klubhaus-crossen.de
END:VEVENT
END:VCALENDAR