BEGIN:VCALENDAR
VERSION:2.0
PRODID:-// - ECPv5.12.3//NONSGML v1.0//EN
CALSCALE:GREGORIAN
METHOD:PUBLISH
X-ORIGINAL-URL:https://klubhaus-crossen.de
X-WR-CALDESC:Veranstaltungen für 
BEGIN:VTIMEZONE
TZID:Europe/Berlin
BEGIN:DAYLIGHT
TZOFFSETFROM:+0100
TZOFFSETTO:+0200
TZNAME:CEST
DTSTART:20220327T010000
END:DAYLIGHT
BEGIN:STANDARD
TZOFFSETFROM:+0200
TZOFFSETTO:+0100
TZNAME:CET
DTSTART:20221030T010000
END:STANDARD
END:VTIMEZONE
BEGIN:VEVENT
DTSTART;TZID=Europe/Berlin:20220513T180000
DTEND;TZID=Europe/Berlin:20220513T203000
DTSTAMP:20260421T232501
CREATED:20211202T124652Z
LAST-MODIFIED:20220509T141028Z
UID:1380-1652464800-1652473800@klubhaus-crossen.de
SUMMARY:ABSAGE durch Veranstalter - Edward Simoni – 30 Jahr Panträume
DESCRIPTION:Absage der Veranstaltung – leider müssen wir Ihnen Mitteilen\, das die Veranstaltung nicht stattfindet. Der Veranstalter hat uns davon in Kenntniss gesetzt\, das er das Konzert aus wirtschaftlichen Gründen leider nicht durchführen kann. Es tut uns sehr leid für all die jenige\, welche sich schon lange Zeit auf die Pan-Klänge gefreut haben. Gekaufte Karten können im Klubhaus Crossen zurück gegeben werden. Entweder zu den Sprechzeiten oder nach telefonischer Vereinbarung unter 0173 6426551. \nEdward Simoni zählt zu den erfolgreichsten Multiinstrumentalisten weltweit und hat in den letzten 30 Jahren alles erreicht\, was sich ein Künstler nur erträumen kann.\nDabei konnte der in Oberschlesien geborene Panflötenspieler sich immer auf sein deutsches Publikum verlassen.\nEr platzierte sich mehrfach in den deutschen Charts\, gewann zweimal in Folge die legendäre ZDF-Hitparade mit seiner Komposition „Pan-Träume“ und arbeitete mit zahlreichen nationalen und internationalen Kollegen zusammen.\nBesonders hervorzuheben ist die Zusammenarbeit mit James Last.\nIn fast allen großen TV- Sendungen in Deutschland und den Nachbarländern war Edward Simoni schon zu Gast.\nSeine Produktionen auf über 23 Studio-Alben wurden mit Gold und Platin ausgezeichnet.\nDie größte Ehre seiner musikalischen Laufbahn erhielt Edward Simoni mit der goldenen Stimmgabel aus den Händen von Showmasterlegende Dieter Thomas Heck. \nAnlässlich seiner Jubiläumstour gastiert Edward Simoni nun am 13. Mai 2022 in Crossen.
URL:https://klubhaus-crossen.de/event/edward-simoni-301-jahr-pantraeume/
LOCATION:Klubhaus Crossen
CATEGORIES:Konzert,Musik/ Gesang,Unterhaltungsveranstaltung
ATTACH;FMTTYPE=image/jpeg:https://klubhaus-crossen.de/wp-content/uploads/2021/12/EDWARD-SIMONI-fuer-WEB-scaled-e1638449318597.jpg
END:VEVENT
END:VCALENDAR