BEGIN:VCALENDAR
VERSION:2.0
PRODID:-// - ECPv5.12.3//NONSGML v1.0//EN
CALSCALE:GREGORIAN
METHOD:PUBLISH
X-ORIGINAL-URL:https://klubhaus-crossen.de
X-WR-CALDESC:Veranstaltungen für 
BEGIN:VTIMEZONE
TZID:Europe/Berlin
BEGIN:DAYLIGHT
TZOFFSETFROM:+0100
TZOFFSETTO:+0200
TZNAME:CEST
DTSTART:20200329T010000
END:DAYLIGHT
BEGIN:STANDARD
TZOFFSETFROM:+0200
TZOFFSETTO:+0100
TZNAME:CET
DTSTART:20201025T010000
END:STANDARD
END:VTIMEZONE
BEGIN:VEVENT
DTSTART;TZID=Europe/Berlin:20200121T090000
DTEND;TZID=Europe/Berlin:20200121T110000
DTSTAMP:20260419T173813
CREATED:20200106T121323Z
LAST-MODIFIED:20200106T121323Z
UID:700-1579597200-1579604400@klubhaus-crossen.de
SUMMARY:Dienstagsfrühstück für jederman
DESCRIPTION:Eine fröhliche Frühstücksrunde trifft sich ein mal im Monat zum gemütlichen Frühstück. Der eine oder andere bringt selbst gemachte Leckereien mit und es wird sich ausgetauscht über allerlei Spannende Dinge. \nWir freuen uns auch auf Sie 🙂
URL:https://klubhaus-crossen.de/event/dienstagsfruehstueck-fuer-jederman-4/
LOCATION:Klubhaus Crossen
CATEGORIES:Freundeskreis
ATTACH;FMTTYPE=image/jpeg:https://klubhaus-crossen.de/wp-content/uploads/2019/04/Frühstück-Klubhaus.jpg
ORGANIZER;CN="Seniorenb%C3%BCro":MAILTO:info@klubhaus-crossen.de
END:VEVENT
END:VCALENDAR