BEGIN:VCALENDAR
VERSION:2.0
PRODID:-// - ECPv5.12.3//NONSGML v1.0//EN
CALSCALE:GREGORIAN
METHOD:PUBLISH
X-ORIGINAL-URL:https://klubhaus-crossen.de
X-WR-CALDESC:Veranstaltungen für 
BEGIN:VTIMEZONE
TZID:Europe/Berlin
BEGIN:DAYLIGHT
TZOFFSETFROM:+0100
TZOFFSETTO:+0200
TZNAME:CEST
DTSTART:20190331T010000
END:DAYLIGHT
BEGIN:STANDARD
TZOFFSETFROM:+0200
TZOFFSETTO:+0100
TZNAME:CET
DTSTART:20191027T010000
END:STANDARD
END:VTIMEZONE
BEGIN:VEVENT
DTSTART;TZID=Europe/Berlin:20190716T090000
DTEND;TZID=Europe/Berlin:20190716T110000
DTSTAMP:20260420T235557
CREATED:20190416T115331Z
LAST-MODIFIED:20190416T115331Z
UID:448-1563267600-1563274800@klubhaus-crossen.de
SUMMARY:“Dienstags-Frühstücks-Treff für jedermann”
DESCRIPTION:Ein Plauderstündchen bei frischen Brötchen und lecker duftendem Kaffee lässt den Tag gut beginnen. Jeder bringt eine Kleinigkeit für die Frühstückstafel mit. Ob selbst gemachtes\, Wurst\, Käse\, Obst\, Gemüse oder Aufstriche\, eine bunte Mischung lässt garantiert ein abwechslungsreiches Angebot für alle entstehen. Wir bitten um Voranmeldung.
URL:https://klubhaus-crossen.de/event/dienstags-fruehstuecks-treff-fuer-jedermann-2/
LOCATION:Klubhaus Crossen
ORGANIZER;CN="Seniorenb%C3%BCro":MAILTO:info@klubhaus-crossen.de
END:VEVENT
END:VCALENDAR