BEGIN:VCALENDAR
VERSION:2.0
PRODID:-// - ECPv5.12.3//NONSGML v1.0//EN
CALSCALE:GREGORIAN
METHOD:PUBLISH
X-ORIGINAL-URL:https://klubhaus-crossen.de
X-WR-CALDESC:Veranstaltungen für 
BEGIN:VTIMEZONE
TZID:Europe/Berlin
BEGIN:DAYLIGHT
TZOFFSETFROM:+0100
TZOFFSETTO:+0200
TZNAME:CEST
DTSTART:20190331T010000
END:DAYLIGHT
BEGIN:STANDARD
TZOFFSETFROM:+0200
TZOFFSETTO:+0100
TZNAME:CET
DTSTART:20191027T010000
END:STANDARD
END:VTIMEZONE
BEGIN:VEVENT
DTSTART;TZID=Europe/Berlin:20190813T090000
DTEND;TZID=Europe/Berlin:20190813T110000
DTSTAMP:20260421T015401
CREATED:20190701T154010Z
LAST-MODIFIED:20190701T154010Z
UID:511-1565686800-1565694000@klubhaus-crossen.de
SUMMARY:Dienstags-Frühstück für jederman
DESCRIPTION:
URL:https://klubhaus-crossen.de/event/dienstags-fruehstueck-fuer-jederman-2/
LOCATION:Klubhaus Crossen
ORGANIZER;CN="Seniorenb%C3%BCro":MAILTO:info@klubhaus-crossen.de
END:VEVENT
END:VCALENDAR