BEGIN:VCALENDAR
VERSION:2.0
PRODID:-// - ECPv5.12.3//NONSGML v1.0//EN
CALSCALE:GREGORIAN
METHOD:PUBLISH
X-ORIGINAL-URL:https://klubhaus-crossen.de
X-WR-CALDESC:Veranstaltungen für 
BEGIN:VTIMEZONE
TZID:Europe/Berlin
BEGIN:DAYLIGHT
TZOFFSETFROM:+0100
TZOFFSETTO:+0200
TZNAME:CEST
DTSTART:20260329T010000
END:DAYLIGHT
BEGIN:STANDARD
TZOFFSETFROM:+0200
TZOFFSETTO:+0100
TZNAME:CET
DTSTART:20261025T010000
END:STANDARD
END:VTIMEZONE
BEGIN:VEVENT
DTSTART;TZID=Europe/Berlin:20260429T160000
DTEND;TZID=Europe/Berlin:20260429T190000
DTSTAMP:20260422T202337
CREATED:20260422T150047Z
LAST-MODIFIED:20260422T150916Z
UID:2654-1777478400-1777489200@klubhaus-crossen.de
SUMMARY:Bürgerdialog - Telemedizinraum gemeinsam planen
DESCRIPTION:Einladung zum offenen Bürgerdialog\nTelemedizinraum Crossen – gemeinsam planen!\nDie Planung für den Telemedizinraum in Crossen geht in die nächste\nRunde.\nDamit der Raum Ihren Bedürfnissen entspricht\, möchten wir Ihre\nIdeen\, Wünsche und Erfahrungen in das Projekt einbeziehen.\nDarum laden wir Sie herzlich zu unserem Bürgerdialog ein:\nAlle Interessierten sind herzlich willkommen.\nBitte zur Planung in die Teilnehmerliste im Klubhaus eintragen oder\nkurze Mail an:\ntelemedizinraum@stadtwerke-jena.de
URL:https://klubhaus-crossen.de/event/buergerdialog-telemedizinraum-gemeinsam-planen/
LOCATION:Klubhaus  Raum Nickelsdorf
CATEGORIES:Gesundheit
ATTACH;FMTTYPE=image/jpeg:https://klubhaus-crossen.de/wp-content/uploads/2026/04/Telemedizin-Aushang_29.04.26.jpg
END:VEVENT
END:VCALENDAR