BEGIN:VCALENDAR
VERSION:2.0
PRODID:-// - ECPv5.12.3//NONSGML v1.0//EN
CALSCALE:GREGORIAN
METHOD:PUBLISH
X-ORIGINAL-URL:https://klubhaus-crossen.de
X-WR-CALDESC:Veranstaltungen für 
BEGIN:VTIMEZONE
TZID:Europe/Berlin
BEGIN:DAYLIGHT
TZOFFSETFROM:+0100
TZOFFSETTO:+0200
TZNAME:CEST
DTSTART:20230326T010000
END:DAYLIGHT
BEGIN:STANDARD
TZOFFSETFROM:+0200
TZOFFSETTO:+0100
TZNAME:CET
DTSTART:20231029T010000
END:STANDARD
END:VTIMEZONE
BEGIN:VEVENT
DTSTART;TZID=Europe/Berlin:20230524T160000
DTEND;TZID=Europe/Berlin:20230524T193000
DTSTAMP:20260421T202003
CREATED:20230512T084708Z
LAST-MODIFIED:20230512T084709Z
UID:1795-1684944000-1684956600@klubhaus-crossen.de
SUMMARY:Blutspende DRK
DESCRIPTION:
URL:https://klubhaus-crossen.de/event/blutspende-drk/
LOCATION:Klubhaus Crossen
CATEGORIES:Blutspende,Gesundheit
END:VEVENT
END:VCALENDAR