BEGIN:VCALENDAR
VERSION:2.0
PRODID:-// - ECPv5.12.3//NONSGML v1.0//EN
CALSCALE:GREGORIAN
METHOD:PUBLISH
X-ORIGINAL-URL:https://klubhaus-crossen.de
X-WR-CALDESC:Veranstaltungen für 
BEGIN:VTIMEZONE
TZID:Europe/Berlin
BEGIN:DAYLIGHT
TZOFFSETFROM:+0100
TZOFFSETTO:+0200
TZNAME:CEST
DTSTART:20200329T010000
END:DAYLIGHT
BEGIN:STANDARD
TZOFFSETFROM:+0200
TZOFFSETTO:+0100
TZNAME:CET
DTSTART:20201025T010000
END:STANDARD
END:VTIMEZONE
BEGIN:VEVENT
DTSTART;TZID=Europe/Berlin:20201026T160000
DTEND;TZID=Europe/Berlin:20201026T193000
DTSTAMP:20260421T183235
CREATED:20201005T161802Z
LAST-MODIFIED:20201005T161803Z
UID:1089-1603728000-1603740600@klubhaus-crossen.de
SUMMARY:Blutspende-Aktion
DESCRIPTION:Der Blutspendedienst vom Roten Kreuz ist wieder bei uns im Haus.\nVergessen Sie nicht Ihren Personalausweis.\nAktueller Hinweis: Einlass zur Spende nur Möglich bis 15 Minuten vor Terminende.
URL:https://klubhaus-crossen.de/event/blutspende-aktion-2/
LOCATION:Klubhaus Crossen
CATEGORIES:Gesundheit
END:VEVENT
END:VCALENDAR