BEGIN:VCALENDAR
VERSION:2.0
PRODID:-// - ECPv5.12.3//NONSGML v1.0//EN
CALSCALE:GREGORIAN
METHOD:PUBLISH
X-ORIGINAL-URL:https://klubhaus-crossen.de
X-WR-CALDESC:Veranstaltungen für 
BEGIN:VTIMEZONE
TZID:Europe/Berlin
BEGIN:DAYLIGHT
TZOFFSETFROM:+0100
TZOFFSETTO:+0200
TZNAME:CEST
DTSTART:20220327T010000
END:DAYLIGHT
BEGIN:STANDARD
TZOFFSETFROM:+0200
TZOFFSETTO:+0100
TZNAME:CET
DTSTART:20221030T010000
END:STANDARD
END:VTIMEZONE
BEGIN:VEVENT
DTSTART;TZID=Europe/Berlin:20220628T190000
DTEND;TZID=Europe/Berlin:20220628T210000
DTSTAMP:20260421T194504
CREATED:20220519T135641Z
LAST-MODIFIED:20220519T135642Z
UID:1501-1656442800-1656450000@klubhaus-crossen.de
SUMMARY:„Auf den Wegen zum Heiligen Jakobus“ - Beginn einer Pilgerreise Richtung  Santiago de Compostela - Der Jacobsweg beginnt vor der eigenen Haustür
DESCRIPTION:Zu unserem Kulturdienstag gehen wir dieses Mal gemeinsam mit Elke Spengler ein Stückweit gemeinsam den Jacobsweg. \nEin Streifzug mit Elke Spengler durch eine abwechslungsreiche Landschaft\, über Grenzen und Brücken\, vorbei an Natur- und Kulturdenkmalen und geschichtsträchtigen Orten. Auf einem einsamen Weg – aber auch mit einigen Zusammentreffen von ganz zufällig hilfsbereiten und interessanten Menschen. \nIrgendwann habe ich das Buch „Ich bin da mal weg“ gelesen. Was Hape Kerkeling dort in seinem Reisebericht auf dem legendären Camino Frances beschreibt hat mich so berührt\, dass der Gedanke\, den Weg auch einmal zu Fuß zu gehen\, sich über Jahre in meinem Kopf gehalten und nicht mehr losgelassen hat. Was ich jedoch erst später mitbekommen habe ist\, dass der Jakobsweg nicht in den Pyrenäen an der französisch/spanischen Grenze beginnt\, sondern vor der eigenen Haustür. \nEine sehr\, sehr weite Strecke\, nämlich über 3000 Kilometer\, liegt vor mir.Im September 2016 habe ich mich kurzentschlossen ohne Planung erstmals auf den Weg gemacht\, ich war an drei Tagen von Hollsteitz nach Eckartsberga unterwegs – meiner ersten Etappe – meiner „Schnupper-Pilgerreise“.  Das Erlebte hat meine Erwartungen weit übertroffen\, es bleibt für mich eine unvergessene Bereicherung. Seitdem bin einmal im Jahr auf dem Weg zu meinem Ziel\, dem Grab des Heiligen Jakobus in Santiago de Compostela.  Im Mai 2019 habe ich Frankfurt am Main erreicht und im September 2020 die Nibelungen- und Lutherstadt Worms.
URL:https://klubhaus-crossen.de/event/auf-den-wegen-zum-heiligen-jakobus-beginn-einer-pilgerreise-richtung-santiago-de-compostela-der-jacobsweg-beginnt-vor-der-eigenen-haustuer/
LOCATION:Klubhaus Crossen
CATEGORIES:DIA/ Film Vortrag,Freundeskreis,Reiseberichte,Vorträge
ATTACH;FMTTYPE=image/jpeg:https://klubhaus-crossen.de/wp-content/uploads/2022/05/Jakobsweg_Sprengler-E._28.06.22-Digital.jpg
END:VEVENT
END:VCALENDAR