BEGIN:VCALENDAR
VERSION:2.0
PRODID:-// - ECPv5.12.3//NONSGML v1.0//EN
CALSCALE:GREGORIAN
METHOD:PUBLISH
X-ORIGINAL-URL:https://klubhaus-crossen.de
X-WR-CALDESC:Veranstaltungen für 
BEGIN:VTIMEZONE
TZID:Europe/Berlin
BEGIN:DAYLIGHT
TZOFFSETFROM:+0100
TZOFFSETTO:+0200
TZNAME:CEST
DTSTART:20220327T010000
END:DAYLIGHT
BEGIN:STANDARD
TZOFFSETFROM:+0200
TZOFFSETTO:+0100
TZNAME:CET
DTSTART:20221030T010000
END:STANDARD
END:VTIMEZONE
BEGIN:VEVENT
DTSTART;TZID=Europe/Berlin:20220222T190000
DTEND;TZID=Europe/Berlin:20220222T210000
DTSTAMP:20260421T202034
CREATED:20220217T150831Z
LAST-MODIFIED:20220217T150831Z
UID:1452-1645556400-1645563600@klubhaus-crossen.de
SUMMARY:„Abenteuer Radreise von Malaysia bis China" Multimedia Vortrag von und mit Harald Lasch
DESCRIPTION:!!!Nur mit Voranmeldung unter 0173 6426551 oder 036693 248727!!! \nMultimedia Vortrag – Reisebericht von und mit Harald Lasch \nVon Kuala Lumpur in den Dschungel von Nord Laos (Teil 1 von „Abenteuer Radreise von Malaysia bis China) \nDer Crimmitschauer Weltenbummler Harald Lasch unternahm von Mai bis November 2015 eine Radtour durch 4 asiatische Länder. \nIm ersten Teil erleben Sie Kuala Lumpur\, die Hauptstadt Malaysias mit dem Thaipusamfest. Es geht weiter durch Thailand vom Süden bis in den äußersten Norden. Mit einer Zugfahrt entlang des River Kwai\, Spaziergänge durch die Ruinen der alten Königsstädte Ayutthaya und Sukhothai\, sowie einem Abstecher zum goldenen Dreieck wird die Reise fortgesetzt. \nIm dritten Land\, Laos\, gehen Sie mit Harald Lasch in den Dschungel auf eine mehrtägige Trekkintour zu den Volksstämmen der Khm und Lenten. \n\nHöhepunkte der Reise:\nThaipusam-Fest in Kuala Lumpur\nZugfahrt am River Kwai in Thailand\nDas Goldene Dreieck Thailand Myanmar Laos\nDschungeltrekking in Laos\nHistorische Altstadtviertel in Dali u. Lijiang – China\nTigersprungschlucht Trecking Tour\nReisterrassen von Yuanyang\nKarstlandschaft von Yangshuo bis Guilin\nHuangshan Gebirge mit Mystic Grotten\nSingapur
URL:https://klubhaus-crossen.de/event/abenteuer-radreise-von-malaysia-bis-china-multimedia-vortrag-von-und-mit-harald-lasch/
LOCATION:Klubhaus Crossen
CATEGORIES:DIA/ Film Vortrag,Vorträge
ATTACH;FMTTYPE=image/jpeg:https://klubhaus-crossen.de/wp-content/uploads/2022/02/Wagen-mit-Kind-zuschnitt.jpg
ORGANIZER;CN="Klubhaus":MAILTO:info@klubhaus-crossen.de
END:VEVENT
END:VCALENDAR