BEGIN:VCALENDAR
VERSION:2.0
PRODID:-// - ECPv5.12.3//NONSGML v1.0//EN
CALSCALE:GREGORIAN
METHOD:PUBLISH
X-ORIGINAL-URL:https://klubhaus-crossen.de
X-WR-CALDESC:Veranstaltungen für 
BEGIN:VTIMEZONE
TZID:Europe/Berlin
BEGIN:DAYLIGHT
TZOFFSETFROM:+0100
TZOFFSETTO:+0200
TZNAME:CEST
DTSTART:20220327T010000
END:DAYLIGHT
BEGIN:STANDARD
TZOFFSETFROM:+0200
TZOFFSETTO:+0100
TZNAME:CET
DTSTART:20221030T010000
END:STANDARD
END:VTIMEZONE
BEGIN:VEVENT
DTSTART;TZID=Europe/Berlin:20220531T190000
DTEND;TZID=Europe/Berlin:20220531T220000
DTSTAMP:20260421T214252
CREATED:20220225T120616Z
LAST-MODIFIED:20220509T141348Z
UID:1472-1654023600-1654034400@klubhaus-crossen.de
SUMMARY:Abenteuer-Radreise Teil 2-China mein Traum südlich d. Wolken von der Tigersprungschlucht ins Gebirge
DESCRIPTION:Abenteuer-Radreise Teil 2-China mein Traum südlich d. Wolken von der Tigersprungschlucht ins Gebirge\nMultimedia Vortrag von und mit Harald Lasch\n \nMultimedia Vortrag – Reisebericht von und mit Harald Lasch\nTeil 2 von „Abenteuer Radreise von Malaysia bis China \nDer Crimmitschauer Weltenbummler Harald Lasch unternahm von Mai bis November 2015 eine Radtour durch 4 asiatische Länder. Den ersten Teil seiner Reise durften wir im Februar bereits mit voller begeisterung erleben. Nun geht es weiter mit dem zweiten Teil seiner Reisegeschichte. \n\nHöhepunkte der Reise Teil 2\nHistorische Altstadtviertel in Dali u. Lijiang – China\nTigersprungschlucht Trecking Tour\nReisterrassen von Yuanyang\nKarstlandschaft von Yangshuo bis Guilin\nHuangshan Gebirge mit Mystic Grotten\nSingapur\nAbenteuer-Radreise Teil 2-China mein Traum südlich d. Wolken von der
URL:https://klubhaus-crossen.de/event/abenteuer-radreise-von-malaysia-bis-china-multimedia-vortrag-von-mit-harald-lasch/
LOCATION:Klubhaus Crossen
CATEGORIES:DIA/ Film Vortrag,Vorträge
ATTACH;FMTTYPE=image/jpeg:https://klubhaus-crossen.de/wp-content/uploads/2022/02/Wagen-mit-Kind-zuschnitt.jpg
ORGANIZER;CN="Klubhaus":MAILTO:info@klubhaus-crossen.de
END:VEVENT
END:VCALENDAR