BEGIN:VCALENDAR
VERSION:2.0
PRODID:-// - ECPv5.12.3//NONSGML v1.0//EN
CALSCALE:GREGORIAN
METHOD:PUBLISH
X-ORIGINAL-URL:https://klubhaus-crossen.de
X-WR-CALDESC:Veranstaltungen für 
BEGIN:VTIMEZONE
TZID:Europe/Berlin
BEGIN:DAYLIGHT
TZOFFSETFROM:+0100
TZOFFSETTO:+0200
TZNAME:CEST
DTSTART:20200329T010000
END:DAYLIGHT
BEGIN:STANDARD
TZOFFSETFROM:+0200
TZOFFSETTO:+0100
TZNAME:CET
DTSTART:20201025T010000
END:STANDARD
END:VTIMEZONE
BEGIN:VEVENT
DTSTART;TZID=Europe/Berlin:20200128T190000
DTEND;TZID=Europe/Berlin:20200128T203000
DTSTAMP:20260421T111953
CREATED:20200103T104159Z
LAST-MODIFIED:20200106T121756Z
UID:684-1580238000-1580243400@klubhaus-crossen.de
SUMMARY:4 Wochen durch Madagaskar - eine Multivisionsshow mit und von Fam. Putze
DESCRIPTION:1. KULTURDIENSTAG im neuen Jahr\nEin Reisebericht „4 Wochen durch Madagaskar“von und mit Familie Putze \nEine unglaubliche Tier- und Pflanzenwelt\, die es so nirgendwo auf der Welt gibt. Erhabene Baobabs\, kulleräugige Lemuren\, viele Reptilien\, Insekten\, Schmetterlinge\, atemberaubende Landschaften\, rote Sandsteinfelsen und freundliche Menschen – täglich vier Wochen lang erlebt. Aber Armut und vor allem Korruption fressen das Paradies auf. All das versuchen wir in unseren Bericht anhand faszinierender Bilder und Videos zu vermitteln und zum nach- und umdenken anzuregen.
URL:https://klubhaus-crossen.de/event/4-wochen-durch-madagaskar-eine-multivisionsshow-mit-und-von-fam-putze/
LOCATION:Klubhaus Crossen
CATEGORIES:DIA/ Film Vortrag
ATTACH;FMTTYPE=image/jpeg:https://klubhaus-crossen.de/wp-content/uploads/2020/01/P1210668-b.jpg
ORGANIZER;CN="Klubhaus":MAILTO:info@klubhaus-crossen.de
END:VEVENT
END:VCALENDAR